BEGIN:VCALENDAR
VERSION:2.0
PRODID:-//Vereinigung der Verfolgten des Naziregimes - ECPv6.15.20//NONSGML v1.0//EN
CALSCALE:GREGORIAN
METHOD:PUBLISH
X-WR-CALNAME:Vereinigung der Verfolgten des Naziregimes
X-ORIGINAL-URL:https://nrw.vvn-bda.de
X-WR-CALDESC:Veranstaltungen für Vereinigung der Verfolgten des Naziregimes
REFRESH-INTERVAL;VALUE=DURATION:PT1H
X-Robots-Tag:noindex
X-PUBLISHED-TTL:PT1H
BEGIN:VTIMEZONE
TZID:Europe/Berlin
BEGIN:DAYLIGHT
TZOFFSETFROM:+0100
TZOFFSETTO:+0200
TZNAME:CEST
DTSTART:20250330T010000
END:DAYLIGHT
BEGIN:STANDARD
TZOFFSETFROM:+0200
TZOFFSETTO:+0100
TZNAME:CET
DTSTART:20251026T010000
END:STANDARD
BEGIN:DAYLIGHT
TZOFFSETFROM:+0100
TZOFFSETTO:+0200
TZNAME:CEST
DTSTART:20260329T010000
END:DAYLIGHT
BEGIN:STANDARD
TZOFFSETFROM:+0200
TZOFFSETTO:+0100
TZNAME:CET
DTSTART:20261025T010000
END:STANDARD
BEGIN:DAYLIGHT
TZOFFSETFROM:+0100
TZOFFSETTO:+0200
TZNAME:CEST
DTSTART:20270328T010000
END:DAYLIGHT
BEGIN:STANDARD
TZOFFSETFROM:+0200
TZOFFSETTO:+0100
TZNAME:CET
DTSTART:20271031T010000
END:STANDARD
END:VTIMEZONE
BEGIN:VEVENT
DTSTART;TZID=Europe/Berlin:20260509T190000
DTEND;TZID=Europe/Berlin:20260509T210000
DTSTAMP:20260420T152124
CREATED:20260410T090657Z
LAST-MODIFIED:20260410T090657Z
UID:3496-1778353200-1778360400@nrw.vvn-bda.de
SUMMARY:Wahrheit und Verrat - Truth and Treason
DESCRIPTION:Film & Gespräch mit Journalist und Buchautor Ulrich Sander im Astra Theater. Essen\nIn Zusammenarbeit mit der Vereinigung der Verfolgten des Naziregimes – Bund der Antifaschistinnen und Antifaschisten (VVN-BdA) \nEin fesselndes Drama über Mut\, Gewissen und die Kraft der Wahrheit in finsteren Zeiten. \nAstra Theater Film & Gespräch FSK12\nRegie Matthew Whitaker\nBesetzung Ewan Horrocks\, Rupert Evans\, Ferdinand McKay \nNach der Verhaftung eines jüdischen Freundes durch die Nationalsozialisten beginnt der 16-jährige Helmuth Hübener (Ewan Horrocks)\, sich gemeinsam mit seinen Freunden Karl-Heinz (Ferdinand McKay) und Rudi (Daf Thomas) gegen das Regime zu stellen. Die drei Jugendlichen gründen eine Widerstandsgruppe und setzen sich mit Flugblättern gegen Propaganda und Unterdrückung zur Wehr. Ihr Engagement bleibt nicht unbemerkt. Schließlich sehen sie sich dem Volksgerichtshof gegenüber – dem höchsten Gericht im nationalsozialistischen Deutschland. (Quelle: Filmstarts.de) \nUlrich Sander (* 11. März 1941 in Hamburg) ist ein deutscher Journalist\, Buchautor und ist Aktivist in der Vereinigung der Verfolgten des Naziregimes – Bund der Antifaschistinnen und Antifaschisten (VVN-BdA). Sander schrieb u.a. „Für Wahrheit und Gerechtigkeit. Helmuth Hübener“ (Reihe Christ in der Welt\, Heft 59\, 1985.) und „Jugendwiderstand im Krieg. Die Helmuth-Hübener-Gruppe 1941/42″ (Pahl-Rugenstein Verlag\, 2002). Darin trug Sander die Tatsachen zum Jugendwiderstand zusammen\, die in Günter Grass „Örtlich betäubt“ Eingang fanden. Ferner in den Spielfilm „Truth and Treason – Wahrheit und Verrat“\, der 2025 in den USA erschien und nun auch in Deutschland gezeigt wird – und der auf dem Dokumentarfilm „Truth and Conviction – Wahrheit und Überzeugung – Die Helmuth Hübener Story“ (2002) beruht. Ein ausführlicher Dokumentarfilm „Vier gegen Hitler“ wurde 2022 produziert\, in dem Ulrich Sander ausführlich zu Wort kommt. \nIm Anschluss an die Filmvorführung habe Sie Gelegenheit mit Ulrich Sander über den Film zu diskutieren. \nBildmaterial zum Film finden Sie hier.
URL:https://nrw.vvn-bda.de/event/wahrheit-und-verrat-truth-and-treason/
LOCATION:Astra Theater Essen\, Teichstraße 2\, Essen\, 45127
CATEGORIES:Filmvorführungen
ORGANIZER;CN="VVN-BdA Landesvereinigung NRW":MAILTO:NRW@VVN-BdA.de
END:VEVENT
END:VCALENDAR